BEGIN:VCALENDAR
VERSION:2.0
PRODID:-//ESL 360 - ECPv6.15.16//NONSGML v1.0//EN
CALSCALE:GREGORIAN
METHOD:PUBLISH
X-WR-CALNAME:ESL 360
X-ORIGINAL-URL:https://esl360.org
X-WR-CALDESC:Events for ESL 360
REFRESH-INTERVAL;VALUE=DURATION:PT1H
X-Robots-Tag:noindex
X-PUBLISHED-TTL:PT1H
BEGIN:VTIMEZONE
TZID:America/Chicago
BEGIN:DAYLIGHT
TZOFFSETFROM:-0600
TZOFFSETTO:-0500
TZNAME:CDT
DTSTART:20230312T080000
END:DAYLIGHT
BEGIN:STANDARD
TZOFFSETFROM:-0500
TZOFFSETTO:-0600
TZNAME:CST
DTSTART:20231105T070000
END:STANDARD
BEGIN:DAYLIGHT
TZOFFSETFROM:-0600
TZOFFSETTO:-0500
TZNAME:CDT
DTSTART:20240310T080000
END:DAYLIGHT
BEGIN:STANDARD
TZOFFSETFROM:-0500
TZOFFSETTO:-0600
TZNAME:CST
DTSTART:20241103T070000
END:STANDARD
BEGIN:DAYLIGHT
TZOFFSETFROM:-0600
TZOFFSETTO:-0500
TZNAME:CDT
DTSTART:20250309T080000
END:DAYLIGHT
BEGIN:STANDARD
TZOFFSETFROM:-0500
TZOFFSETTO:-0600
TZNAME:CST
DTSTART:20251102T070000
END:STANDARD
END:VTIMEZONE
BEGIN:VEVENT
DTSTART;TZID=America/Chicago:20240807T053000
DTEND;TZID=America/Chicago:20240807T073000
DTSTAMP:20260421T062729
CREATED:20240719T013526Z
LAST-MODIFIED:20240916T230336Z
UID:61-1723008600-1723015800@esl360.org
SUMMARY:Little Women Bookclub (chapters 12 and 13)
DESCRIPTION:Meeting Links: \nChapter 12 audio file link \nChapter 13 audio file link \nZoom meeting link
URL:https://esl360.org/event/esl-bookclub-2/
LOCATION:Zoom Meeting
CATEGORIES:Bookclub,Class,Lesson
ATTACH;FMTTYPE=image/png:https://esl360.org/wp-content/uploads/2024/07/7Aug24.png
END:VEVENT
BEGIN:VEVENT
DTSTART;TZID=America/Chicago:20240814T053000
DTEND;TZID=America/Chicago:20240814T073000
DTSTAMP:20260421T062729
CREATED:20240719T013731Z
LAST-MODIFIED:20240916T230336Z
UID:63-1723613400-1723620600@esl360.org
SUMMARY:Little Women Bookclub (chapters 14 and 15)
DESCRIPTION:  \n\n\n\nClass Links: \nChapter 14 audio file link \nChapter 15 audio file link \nChapter 14 and 15 text file link \nZoom meeting link
URL:https://esl360.org/event/esl-bookclub-3/
LOCATION:Zoom Meeting
CATEGORIES:Bookclub,Class,Lesson
ATTACH;FMTTYPE=image/png:https://esl360.org/wp-content/uploads/2024/07/14Aug24.png
END:VEVENT
BEGIN:VEVENT
DTSTART;TZID=America/Chicago:20240821T053000
DTEND;TZID=America/Chicago:20240821T053000
DTSTAMP:20260421T062729
CREATED:20240719T021942Z
LAST-MODIFIED:20240916T230336Z
UID:67-1724218200-1724218200@esl360.org
SUMMARY:Little Women Bookclub (chapters 16 and 17)
DESCRIPTION:Class Links: \nChapter 16 audio file link\nChapter 17 audio file link\nChapter 16 and 17 text file link\nZoom meeting link
URL:https://esl360.org/event/esl-bookclub-4/
CATEGORIES:Bookclub,Class,Lesson
ATTACH;FMTTYPE=image/png:https://esl360.org/wp-content/uploads/2024/07/21Aug24.png
END:VEVENT
BEGIN:VEVENT
DTSTART;TZID=America/Chicago:20240829T053000
DTEND;TZID=America/Chicago:20240829T080000
DTSTAMP:20260421T062729
CREATED:20240724T005930Z
LAST-MODIFIED:20240916T230336Z
UID:238-1724909400-1724918400@esl360.org
SUMMARY:Little Women Movie Party
DESCRIPTION:Little Women movie watching party to celebrate the end of our summer book club. We’ll meet in-person at the church. Feel free to bring a snack to share.
URL:https://esl360.org/event/little-women-movie-party/
LOCATION:Church classroom\, 10400 Legacy Dr\, Frisco\, TX\, 75033\, United States
CATEGORIES:Bookclub,Class,Lesson
ATTACH;FMTTYPE=image/png:https://esl360.org/wp-content/uploads/2024/07/29Aug24.png
END:VEVENT
END:VCALENDAR